BEGIN:VCALENDAR
VERSION:2.0
PRODID:-//Dr. Andreas Janotta ARTS MANAGEMENT - ECPv5.16.1//NONSGML v1.0//EN
CALSCALE:GREGORIAN
METHOD:PUBLISH
X-WR-CALNAME:Dr. Andreas Janotta ARTS MANAGEMENT
X-ORIGINAL-URL:https://www.andreasjanotta.com
X-WR-CALDESC:Veranstaltungen für Dr. Andreas Janotta ARTS MANAGEMENT
BEGIN:VTIMEZONE
TZID:Europe/Berlin
BEGIN:DAYLIGHT
TZOFFSETFROM:+0100
TZOFFSETTO:+0200
TZNAME:CEST
DTSTART:20260329T010000
END:DAYLIGHT
BEGIN:STANDARD
TZOFFSETFROM:+0200
TZOFFSETTO:+0100
TZNAME:CET
DTSTART:20261025T010000
END:STANDARD
END:VTIMEZONE
BEGIN:VEVENT
DTSTART;TZID=Europe/Berlin:20260428T193000
DTEND;TZID=Europe/Berlin:20260428T193000
DTSTAMP:20260423T214617
CREATED:20250804T153632Z
LAST-MODIFIED:20250804T153916Z
UID:7641-1777404600-1777404600@www.andreasjanotta.com
SUMMARY:Konzert- und Kongresszentrum Harmonie Heilbronn – Theodor-Heuss-Saal
DESCRIPTION:„Playgrounds“ mit Ensemble Nuovo Aspetto – Grounds von Purcell\, Geminiani\, Carr\, Ortiz\, Corelli\, Finger und Chick Corea
URL:https://www.andreasjanotta.com/event/heilbronn/
LOCATION:Konzert- und Kongresszentrum Harmonie Heilbronn\, Allee 28\, Heilbronn\, 74072\, Germany
CATEGORIES:Stefan Temmingh
ATTACH;FMTTYPE=image/jpeg:https://www.andreasjanotta.com/wp-content/uploads/2021/07/calendar-temmingh-solo2.jpg
END:VEVENT
END:VCALENDAR