BEGIN:VCALENDAR
VERSION:2.0
PRODID:-//Dr. Andreas Janotta ARTS MANAGEMENT - ECPv5.16.1//NONSGML v1.0//EN
CALSCALE:GREGORIAN
METHOD:PUBLISH
X-WR-CALNAME:Dr. Andreas Janotta ARTS MANAGEMENT
X-ORIGINAL-URL:https://www.andreasjanotta.com/en/
X-WR-CALDESC:Events for Dr. Andreas Janotta ARTS MANAGEMENT
BEGIN:VTIMEZONE
TZID:Europe/Berlin
BEGIN:DAYLIGHT
TZOFFSETFROM:+0100
TZOFFSETTO:+0200
TZNAME:CEST
DTSTART:20260329T010000
END:DAYLIGHT
BEGIN:STANDARD
TZOFFSETFROM:+0200
TZOFFSETTO:+0100
TZNAME:CET
DTSTART:20261025T010000
END:STANDARD
END:VTIMEZONE
BEGIN:VEVENT
DTSTART;TZID=Europe/Berlin:20260513T200000
DTEND;TZID=Europe/Berlin:20260513T200000
DTSTAMP:20260423T201427
CREATED:20250804T155239Z
LAST-MODIFIED:20250804T155239Z
UID:7655-1778702400-1778702400@www.andreasjanotta.com
SUMMARY:Unterfoehring near Munich – St. Valentin Church
DESCRIPTION:Duo concert with Markus Uhl (organ)
URL:https://www.andreasjanotta.com/en/event/unterfoehring/
LOCATION:St. Valentin Unterföhring\, Kirchenweg\, Unterföhring\, 85774\, Germany
CATEGORIES:Stefan Temmingh,Stefan Temmingh
ATTACH;FMTTYPE=image/jpeg:https://www.andreasjanotta.com/wp-content/uploads/2021/07/calendar-temmingh-solo1.jpg
END:VEVENT
END:VCALENDAR